BEGIN:VCALENDAR
VERSION:2.0
PRODID:-//City of Foley, Minnesota - ECPv6.15.17.1//NONSGML v1.0//EN
CALSCALE:GREGORIAN
METHOD:PUBLISH
X-WR-CALNAME:City of Foley, Minnesota
X-ORIGINAL-URL:https://ci.foley.mn.us
X-WR-CALDESC:Events for City of Foley, Minnesota
REFRESH-INTERVAL;VALUE=DURATION:PT1H
X-Robots-Tag:noindex
X-PUBLISHED-TTL:PT1H
BEGIN:VTIMEZONE
TZID:UTC
BEGIN:STANDARD
TZOFFSETFROM:+0000
TZOFFSETTO:+0000
TZNAME:UTC
DTSTART:20200101T000000
END:STANDARD
END:VTIMEZONE
BEGIN:VEVENT
DTSTART;VALUE=DATE:20210101
DTEND;VALUE=DATE:20210102
DTSTAMP:20260424T224423
CREATED:20201104T225438Z
LAST-MODIFIED:20201228T212726Z
UID:7225-1609459200-1609545599@ci.foley.mn.us
SUMMARY:New Year's Day - City Hall Closed
DESCRIPTION:
URL:https://ci.foley.mn.us/event/new-years-day-city-hall-closed-4/
LOCATION:City Hall Administrative Offices\, 251 4th Ave N\, Foley\, 56329\, United States
END:VEVENT
BEGIN:VEVENT
DTSTART;TZID=UTC:20210105T173000
DTEND;TZID=UTC:20210105T193000
DTSTAMP:20260424T224423
CREATED:20201203T214144Z
LAST-MODIFIED:20201203T214144Z
UID:7265-1609867800-1609875000@ci.foley.mn.us
SUMMARY:City Council Meeting
DESCRIPTION:City Council meetings are held regularly on the 1st and 3rd Tuesday of the month at 5:30 p.m. at City Hall\, unless specified in advance by the City Council. Second meetings of the month are held when needed as determined by the Mayor and/or City Administrator. The public is encouraged to attend and speak at the meeting during public forums.
URL:https://ci.foley.mn.us/event/city-council-meeting-45/
LOCATION:City Hall – Council Chamber
END:VEVENT
BEGIN:VEVENT
DTSTART;VALUE=DATE:20210118
DTEND;VALUE=DATE:20210119
DTSTAMP:20260424T224423
CREATED:20201203T215051Z
LAST-MODIFIED:20210112T214442Z
UID:7273-1610928000-1611014399@ci.foley.mn.us
SUMMARY:Martin Luther King Day - City Hall Closed
DESCRIPTION:
URL:https://ci.foley.mn.us/event/martin-luther-king-day-city-hall-closed-2/
LOCATION:City Hall Administrative Offices\, 251 4th Ave N\, Foley\, 56329\, United States
END:VEVENT
BEGIN:VEVENT
DTSTART;TZID=UTC:20210119T120000
DTEND;TZID=UTC:20210119T133000
DTSTAMP:20260424T224423
CREATED:20201203T214743Z
LAST-MODIFIED:20201203T214743Z
UID:7271-1611057600-1611063000@ci.foley.mn.us
SUMMARY:Thriving Communities - Economic Development Task Force
DESCRIPTION:The Economic Development board helps to support the many varied businesses and industries within the City of Foley. The board oversees programs\, reviews data and supports efforts to help meet the economic goals of the community. Meets the third Tuesday of every month from 12:00 p.m. to 1:30 p.m.
URL:https://ci.foley.mn.us/event/thriving-communities-economic-development-task-force-38/
LOCATION:City Hall – Council Chamber
END:VEVENT
END:VCALENDAR