BEGIN:VCALENDAR
VERSION:2.0
PRODID:-//City of Foley, Minnesota - ECPv6.15.17.1//NONSGML v1.0//EN
CALSCALE:GREGORIAN
METHOD:PUBLISH
X-ORIGINAL-URL:https://ci.foley.mn.us
X-WR-CALDESC:Events for City of Foley, Minnesota
REFRESH-INTERVAL;VALUE=DURATION:PT1H
X-Robots-Tag:noindex
X-PUBLISHED-TTL:PT1H
BEGIN:VTIMEZONE
TZID:UTC
BEGIN:STANDARD
TZOFFSETFROM:+0000
TZOFFSETTO:+0000
TZNAME:UTC
DTSTART:20200101T000000
END:STANDARD
END:VTIMEZONE
BEGIN:VEVENT
DTSTART;TZID=UTC:20210504T173000
DTEND;TZID=UTC:20210504T193000
DTSTAMP:20260424T142424
CREATED:20210406T183856Z
LAST-MODIFIED:20210406T183856Z
UID:7546-1620149400-1620156600@ci.foley.mn.us
SUMMARY:City Council Meeting
DESCRIPTION:City Council meetings are held regularly on the 1st and 3rd Tuesday of the month at 5:30 p.m. at City Hall\, unless specified in advance by the City Council. Second meetings of the month are held when needed as determined by the Mayor and/or City Administrator. The public is encouraged to attend and speak at the meeting during public forums.
URL:https://ci.foley.mn.us/event/city-council-meeting-52/
LOCATION:City Hall – Council Chamber
END:VEVENT
BEGIN:VEVENT
DTSTART;TZID=UTC:20210517T143000
DTEND;TZID=UTC:20210517T153000
DTSTAMP:20260424T142424
CREATED:20210406T183949Z
LAST-MODIFIED:20210513T200407Z
UID:7548-1621261800-1621265400@ci.foley.mn.us
SUMMARY:City Council Meeting
DESCRIPTION:Please Note: The day and time of the council meeting was moved to accommodate schedules. \nThe council will discuss the wastewater forcemain/fiber project\, a legal correction on a recent annexation and continue an on-going discussion on the purchase of property. \nCity Council meetings are held regularly on the 1st and 3rd Tuesday of the month at 5:30 p.m. at City Hall\, unless specified in advance by the City Council. Second meetings of the month are held when needed as determined by the Mayor and/or City Administrator. The public is encouraged to attend and speak at the meeting during public forums.
URL:https://ci.foley.mn.us/event/city-council-meeting-53/
LOCATION:City Hall – Council Chamber
END:VEVENT
BEGIN:VEVENT
DTSTART;TZID=UTC:20210518T120000
DTEND;TZID=UTC:20210518T133000
DTSTAMP:20260424T142424
CREATED:20210406T184336Z
LAST-MODIFIED:20210406T184336Z
UID:7552-1621339200-1621344600@ci.foley.mn.us
SUMMARY:Thriving Communities - Economic Development Task Force
DESCRIPTION:The Economic Development board helps to support the many varied businesses and industries within the City of Foley. The board oversees programs\, reviews data and supports efforts to help meet the economic goals of the community. Meets the third Tuesday of every month from 12:00 p.m. to 1:30 p.m.
URL:https://ci.foley.mn.us/event/thriving-communities-economic-development-task-force-42/
LOCATION:City Hall – Council Chamber
END:VEVENT
BEGIN:VEVENT
DTSTART;VALUE=DATE:20210531
DTEND;VALUE=DATE:20210601
DTSTAMP:20260424T142424
CREATED:20210406T184603Z
LAST-MODIFIED:20210406T184603Z
UID:7554-1622419200-1622505599@ci.foley.mn.us
SUMMARY:Memorial Day - City Hall Closed
DESCRIPTION:City Hall will be closed in observance of Memorial Day.
URL:https://ci.foley.mn.us/event/memorial-day-city-hall-closed-4/
LOCATION:City Hall Administrative Offices\, 251 4th Ave N\, Foley\, 56329\, United States
END:VEVENT
END:VCALENDAR