BEGIN:VCALENDAR
VERSION:2.0
PRODID:-//City of Foley, Minnesota - ECPv6.15.17.1//NONSGML v1.0//EN
CALSCALE:GREGORIAN
METHOD:PUBLISH
X-ORIGINAL-URL:https://ci.foley.mn.us
X-WR-CALDESC:Events for City of Foley, Minnesota
REFRESH-INTERVAL;VALUE=DURATION:PT1H
X-Robots-Tag:noindex
X-PUBLISHED-TTL:PT1H
BEGIN:VTIMEZONE
TZID:America/Chicago
BEGIN:DAYLIGHT
TZOFFSETFROM:-0600
TZOFFSETTO:-0500
TZNAME:CDT
DTSTART:20200308T080000
END:DAYLIGHT
BEGIN:STANDARD
TZOFFSETFROM:-0500
TZOFFSETTO:-0600
TZNAME:CST
DTSTART:20201101T070000
END:STANDARD
BEGIN:DAYLIGHT
TZOFFSETFROM:-0600
TZOFFSETTO:-0500
TZNAME:CDT
DTSTART:20210314T080000
END:DAYLIGHT
BEGIN:STANDARD
TZOFFSETFROM:-0500
TZOFFSETTO:-0600
TZNAME:CST
DTSTART:20211107T070000
END:STANDARD
BEGIN:DAYLIGHT
TZOFFSETFROM:-0600
TZOFFSETTO:-0500
TZNAME:CDT
DTSTART:20220313T080000
END:DAYLIGHT
BEGIN:STANDARD
TZOFFSETFROM:-0500
TZOFFSETTO:-0600
TZNAME:CST
DTSTART:20221106T070000
END:STANDARD
END:VTIMEZONE
BEGIN:VEVENT
DTSTART;TZID=America/Chicago:20211102T173000
DTEND;TZID=America/Chicago:20211102T193000
DTSTAMP:20260423T203011
CREATED:20210909T195554Z
LAST-MODIFIED:20211007T133305Z
UID:7873-1635874200-1635881400@ci.foley.mn.us
SUMMARY:City Council Meeting
DESCRIPTION:City Council meetings are held regularly on the 1st and 3rd Tuesday of the month at 5:30 p.m. at City Hall\, unless specified in advance by the City Council. Second meetings of the month are held when needed as determined by the Mayor and/or City Administrator. The public is encouraged to attend and speak at the meeting during public forums.
URL:https://ci.foley.mn.us/event/city-council-meeting-60/
LOCATION:City Hall – Council Chamber
END:VEVENT
BEGIN:VEVENT
DTSTART;VALUE=DATE:20211111
DTEND;VALUE=DATE:20211112
DTSTAMP:20260423T203011
CREATED:20211007T134316Z
LAST-MODIFIED:20211007T134316Z
UID:7948-1636588800-1636675199@ci.foley.mn.us
SUMMARY:Veterans Day - City Hall Closed
DESCRIPTION:
URL:https://ci.foley.mn.us/event/veterans-day-city-hall-closed-3/
LOCATION:City Hall Administrative Offices\, 251 4th Ave N\, Foley\, 56329\, United States
END:VEVENT
BEGIN:VEVENT
DTSTART;TZID=America/Chicago:20211116T120000
DTEND;TZID=America/Chicago:20211116T133000
DTSTAMP:20260423T203011
CREATED:20211007T134021Z
LAST-MODIFIED:20211007T134021Z
UID:7946-1637064000-1637069400@ci.foley.mn.us
SUMMARY:Thriving Communities - Economic Development Task Force
DESCRIPTION:The Economic Development board helps to support the many varied businesses and industries within the City of Foley. The board oversees programs\, reviews data and supports efforts to help meet the economic goals of the community. Meets the third Tuesday of every month from 12:00 p.m. to 1:30 p.m.
URL:https://ci.foley.mn.us/event/thriving-communities-economic-development-task-force-48/
LOCATION:City Hall – Council Chamber
END:VEVENT
BEGIN:VEVENT
DTSTART;TZID=America/Chicago:20211116T180000
DTEND;TZID=America/Chicago:20211116T190000
DTSTAMP:20260423T203011
CREATED:20211103T170956Z
LAST-MODIFIED:20211103T170956Z
UID:7983-1637085600-1637089200@ci.foley.mn.us
SUMMARY:Foley Downtown Stakeholders Listening Session
DESCRIPTION:Dear Business Owner\, \nMany new projects are coming to our area including the wastewater expansion project and Highway 23 corridor improvements.  We want to hear from you on what we can do to help our existing downtown business community prosper with the many new changes.  On behalf of the Foley Economic Development Committee\, we’d like to invite you to a downtown stakeholder listening session: \nWhen:  Tuesday\, November 16th from 6:00pm-7:00pm \nWhere:  Foley City Hall Meeting Room \nAgenda: \n\nUpdate on 2022 Projects:\n\nFoley Wastewater Regionalization\nHighway 23 Roadway and Pedestrian Improvements\nBenton County Broadband Initiative\n\n\nDowntown Opportunities – Listening Session\n\nWhat do you want to see?\nHow can we help you?\n\n\nSamples – Other Communities\n\nSnacks and beverages will be provided to all who attend.  Please feel free to invite any other stakeholders you feel would benefit from participation.  Questions can be directed to Amanda Othoudt from Benton Economic Partnership at 320-968-6197 or by email at bentoneconomicpartnership@gmail.com. \nWe hope to see you there! \nFoley Economic Development Committee \n 
URL:https://ci.foley.mn.us/event/foley-downtown-stakeholders-listening-session/
LOCATION:City Hall – Council Chamber
END:VEVENT
BEGIN:VEVENT
DTSTART;TZID=America/Chicago:20211118T073000
DTEND;TZID=America/Chicago:20211118T083000
DTSTAMP:20260423T203011
CREATED:20211110T135414Z
LAST-MODIFIED:20211110T135634Z
UID:8024-1637220600-1637224200@ci.foley.mn.us
SUMMARY:Foley Area Chamber Meeting
DESCRIPTION:
URL:https://ci.foley.mn.us/event/foley-area-chamber-meeting-16/
LOCATION:City Hall – Council Chamber
END:VEVENT
BEGIN:VEVENT
DTSTART;VALUE=DATE:20211125
DTEND;VALUE=DATE:20211127
DTSTAMP:20260423T203011
CREATED:20211007T134505Z
LAST-MODIFIED:20211007T134505Z
UID:7950-1637798400-1637971199@ci.foley.mn.us
SUMMARY:Thanksgiving Holiday - City Hall Closed
DESCRIPTION:
URL:https://ci.foley.mn.us/event/thanksgiving-holiday-city-hall-closed/
LOCATION:City Hall Administrative Offices\, 251 4th Ave N\, Foley\, 56329\, United States
END:VEVENT
END:VCALENDAR