BEGIN:VCALENDAR
VERSION:2.0
PRODID:-//City of Foley, Minnesota - ECPv6.15.17.1//NONSGML v1.0//EN
CALSCALE:GREGORIAN
METHOD:PUBLISH
X-ORIGINAL-URL:https://ci.foley.mn.us
X-WR-CALDESC:Events for City of Foley, Minnesota
REFRESH-INTERVAL;VALUE=DURATION:PT1H
X-Robots-Tag:noindex
X-PUBLISHED-TTL:PT1H
BEGIN:VTIMEZONE
TZID:America/Chicago
BEGIN:DAYLIGHT
TZOFFSETFROM:-0600
TZOFFSETTO:-0500
TZNAME:CDT
DTSTART:20200308T080000
END:DAYLIGHT
BEGIN:STANDARD
TZOFFSETFROM:-0500
TZOFFSETTO:-0600
TZNAME:CST
DTSTART:20201101T070000
END:STANDARD
BEGIN:DAYLIGHT
TZOFFSETFROM:-0600
TZOFFSETTO:-0500
TZNAME:CDT
DTSTART:20210314T080000
END:DAYLIGHT
BEGIN:STANDARD
TZOFFSETFROM:-0500
TZOFFSETTO:-0600
TZNAME:CST
DTSTART:20211107T070000
END:STANDARD
BEGIN:DAYLIGHT
TZOFFSETFROM:-0600
TZOFFSETTO:-0500
TZNAME:CDT
DTSTART:20220313T080000
END:DAYLIGHT
BEGIN:STANDARD
TZOFFSETFROM:-0500
TZOFFSETTO:-0600
TZNAME:CST
DTSTART:20221106T070000
END:STANDARD
END:VTIMEZONE
BEGIN:VEVENT
DTSTART;TZID=America/Chicago:20211207T173000
DTEND;TZID=America/Chicago:20211207T193000
DTSTAMP:20260423T184100
CREATED:20211105T124029Z
LAST-MODIFIED:20211109T162130Z
UID:7993-1638898200-1638905400@ci.foley.mn.us
SUMMARY:City Council Meeting - Truth In Taxation Hearing for Final Budget
DESCRIPTION:City Council meetings are held regularly on the 1st and 3rd Tuesday of the month at 5:30 p.m. at City Hall\, unless specified in advance by the City Council. Second meetings of the month are held when needed as determined by the Mayor and/or City Administrator. The public is encouraged to attend and speak at the meeting during public forums. \nPlease Note: The regular Council Meeting will begin at 5:30 p.m. At 6:00 p.m\, the regular council meeting will be recessed so the council can conduct the Truth in Taxation Hearing and approve the final budget. At the conclusion\, the regular council meeting will then resume.
URL:https://ci.foley.mn.us/event/city-council-meeting-58/
LOCATION:City Hall – Council Chamber
END:VEVENT
BEGIN:VEVENT
DTSTART;TZID=America/Chicago:20211221T173000
DTEND;TZID=America/Chicago:20211221T193000
DTSTAMP:20260423T184100
CREATED:20211105T124119Z
LAST-MODIFIED:20211105T124119Z
UID:7995-1640107800-1640115000@ci.foley.mn.us
SUMMARY:City Council Meeting
DESCRIPTION:City Council meetings are held regularly on the 1st and 3rd Tuesday of the month at 5:30 p.m. at City Hall\, unless specified in advance by the City Council. Second meetings of the month are held when needed as determined by the Mayor and/or City Administrator. The public is encouraged to attend and speak at the meeting during public forums.
URL:https://ci.foley.mn.us/event/city-council-meeting-62/
LOCATION:City Hall – Council Chamber
END:VEVENT
BEGIN:VEVENT
DTSTART;VALUE=DATE:20211223
DTEND;VALUE=DATE:20211224
DTSTAMP:20260423T184100
CREATED:20211105T124940Z
LAST-MODIFIED:20211105T125446Z
UID:8001-1640217600-1640303999@ci.foley.mn.us
SUMMARY:Christmas Holiday - City Hall Closes at 11:30 a.m.
DESCRIPTION:When a holiday falls on a Saturday or Sunday\, the holiday is celebrated on the Friday or Monday respectively.
URL:https://ci.foley.mn.us/event/christmas-eve-city-hall-closes-at-1130-a-m-3/
LOCATION:City Hall Administrative Offices\, 251 4th Ave N\, Foley\, 56329\, United States
END:VEVENT
BEGIN:VEVENT
DTSTART;VALUE=DATE:20211224
DTEND;VALUE=DATE:20211225
DTSTAMP:20260423T184100
CREATED:20211105T125233Z
LAST-MODIFIED:20211105T125233Z
UID:8003-1640304000-1640390399@ci.foley.mn.us
SUMMARY:Christmas Holiday - City Hall Closed
DESCRIPTION:When a holiday falls on a Saturday or Sunday\, the holiday is celebrated on the Friday or Monday respectively.
URL:https://ci.foley.mn.us/event/christmas-holiday-city-hall-closed/
LOCATION:City Hall Administrative Offices\, 251 4th Ave N\, Foley\, 56329\, United States
END:VEVENT
BEGIN:VEVENT
DTSTART;VALUE=DATE:20211231
DTEND;VALUE=DATE:20220101
DTSTAMP:20260423T184100
CREATED:20211105T125931Z
LAST-MODIFIED:20211105T130213Z
UID:8008-1640908800-1640995199@ci.foley.mn.us
SUMMARY:New Year's Holiday - City Hall Closed
DESCRIPTION:When a holiday falls on a Saturday or Sunday\, the holiday is celebrated on the Friday or Monday respectively.
URL:https://ci.foley.mn.us/event/new-years-eve-5/
END:VEVENT
END:VCALENDAR