BEGIN:VCALENDAR
VERSION:2.0
PRODID:-//City of Foley, Minnesota - ECPv6.15.17.1//NONSGML v1.0//EN
CALSCALE:GREGORIAN
METHOD:PUBLISH
X-WR-CALNAME:City of Foley, Minnesota
X-ORIGINAL-URL:https://ci.foley.mn.us
X-WR-CALDESC:Events for City of Foley, Minnesota
REFRESH-INTERVAL;VALUE=DURATION:PT1H
X-Robots-Tag:noindex
X-PUBLISHED-TTL:PT1H
BEGIN:VTIMEZONE
TZID:America/Chicago
BEGIN:DAYLIGHT
TZOFFSETFROM:-0600
TZOFFSETTO:-0500
TZNAME:CDT
DTSTART:20210314T080000
END:DAYLIGHT
BEGIN:STANDARD
TZOFFSETFROM:-0500
TZOFFSETTO:-0600
TZNAME:CST
DTSTART:20211107T070000
END:STANDARD
BEGIN:DAYLIGHT
TZOFFSETFROM:-0600
TZOFFSETTO:-0500
TZNAME:CDT
DTSTART:20220313T080000
END:DAYLIGHT
BEGIN:STANDARD
TZOFFSETFROM:-0500
TZOFFSETTO:-0600
TZNAME:CST
DTSTART:20221106T070000
END:STANDARD
BEGIN:DAYLIGHT
TZOFFSETFROM:-0600
TZOFFSETTO:-0500
TZNAME:CDT
DTSTART:20230312T080000
END:DAYLIGHT
BEGIN:STANDARD
TZOFFSETFROM:-0500
TZOFFSETTO:-0600
TZNAME:CST
DTSTART:20231105T070000
END:STANDARD
END:VTIMEZONE
BEGIN:VEVENT
DTSTART;TZID=America/Chicago:20220208T173000
DTEND;TZID=America/Chicago:20220208T193000
DTSTAMP:20260423T150412
CREATED:20220106T175804Z
LAST-MODIFIED:20220106T175804Z
UID:8140-1644341400-1644348600@ci.foley.mn.us
SUMMARY:City Council Meeting
DESCRIPTION:Please Note: The meeting was moved back one week due to the Precinct Caucus on Feb. 1. \nCity Council meetings are held regularly on the 1st and 3rd Tuesday of the month at 5:30 p.m. at City Hall\, unless specified in advance by the City Council. Second meetings of the month are held when needed as determined by the Mayor and/or City Administrator. The public is encouraged to attend and speak at the meeting during public forums.
URL:https://ci.foley.mn.us/event/city-council-meeting-64/
LOCATION:City Hall – Council Chamber
END:VEVENT
BEGIN:VEVENT
DTSTART;TZID=America/Chicago:20220214T183000
DTEND;TZID=America/Chicago:20220214T193000
DTSTAMP:20260423T150412
CREATED:20220106T180050Z
LAST-MODIFIED:20220106T180416Z
UID:8142-1644863400-1644867000@ci.foley.mn.us
SUMMARY:Planning Commission
DESCRIPTION:Meetings are held the second Monday of the month at 6:30 p.m.
URL:https://ci.foley.mn.us/event/planning-commission-32/
LOCATION:City Hall – Council Chamber
END:VEVENT
BEGIN:VEVENT
DTSTART;TZID=America/Chicago:20220215T120000
DTEND;TZID=America/Chicago:20220215T133000
DTSTAMP:20260423T150412
CREATED:20220106T180248Z
LAST-MODIFIED:20220106T180248Z
UID:8144-1644926400-1644931800@ci.foley.mn.us
SUMMARY:Thriving Communities - Economic Development Task Force
DESCRIPTION:The Economic Development board helps to support the many varied businesses and industries within the City of Foley. The board oversees programs\, reviews data and supports efforts to help meet the economic goals of the community. Meets the third Tuesday of every month from 12:00 p.m. to 1:30 p.m.
URL:https://ci.foley.mn.us/event/thriving-communities-economic-development-task-force-49/
LOCATION:City Hall – Council Chamber
END:VEVENT
BEGIN:VEVENT
DTSTART;VALUE=DATE:20220221
DTEND;VALUE=DATE:20220222
DTSTAMP:20260423T150412
CREATED:20220106T180625Z
LAST-MODIFIED:20220106T180625Z
UID:8147-1645401600-1645487999@ci.foley.mn.us
SUMMARY:Presidents Day - City Hall Closed
DESCRIPTION:City Hall administrative offices will be closed for Presidents Day.
URL:https://ci.foley.mn.us/event/presidents-day-city-hall-closed-4/
LOCATION:City Hall Administrative Offices\, 251 4th Ave N\, Foley\, 56329\, United States
END:VEVENT
END:VCALENDAR