BEGIN:VCALENDAR
VERSION:2.0
PRODID:-//City of Foley, Minnesota - ECPv6.15.17.1//NONSGML v1.0//EN
CALSCALE:GREGORIAN
METHOD:PUBLISH
X-ORIGINAL-URL:https://ci.foley.mn.us
X-WR-CALDESC:Events for City of Foley, Minnesota
REFRESH-INTERVAL;VALUE=DURATION:PT1H
X-Robots-Tag:noindex
X-PUBLISHED-TTL:PT1H
BEGIN:VTIMEZONE
TZID:America/Chicago
BEGIN:DAYLIGHT
TZOFFSETFROM:-0600
TZOFFSETTO:-0500
TZNAME:CDT
DTSTART:20210314T080000
END:DAYLIGHT
BEGIN:STANDARD
TZOFFSETFROM:-0500
TZOFFSETTO:-0600
TZNAME:CST
DTSTART:20211107T070000
END:STANDARD
BEGIN:DAYLIGHT
TZOFFSETFROM:-0600
TZOFFSETTO:-0500
TZNAME:CDT
DTSTART:20220313T080000
END:DAYLIGHT
BEGIN:STANDARD
TZOFFSETFROM:-0500
TZOFFSETTO:-0600
TZNAME:CST
DTSTART:20221106T070000
END:STANDARD
BEGIN:DAYLIGHT
TZOFFSETFROM:-0600
TZOFFSETTO:-0500
TZNAME:CDT
DTSTART:20230312T080000
END:DAYLIGHT
BEGIN:STANDARD
TZOFFSETFROM:-0500
TZOFFSETTO:-0600
TZNAME:CST
DTSTART:20231105T070000
END:STANDARD
END:VTIMEZONE
BEGIN:VEVENT
DTSTART;VALUE=DATE:20220704
DTEND;VALUE=DATE:20220705
DTSTAMP:20260423T022853
CREATED:20220608T163822Z
LAST-MODIFIED:20220608T163822Z
UID:8497-1656892800-1656979199@ci.foley.mn.us
SUMMARY:July 4 Holiday - City Hall Closed
DESCRIPTION:City Hall Administrative Offices will be closed for the July 4 holiday.
URL:https://ci.foley.mn.us/event/july-4-holiday-city-hall-closed-2/
LOCATION:City Hall Administrative Offices\, 251 4th Ave N\, Foley\, 56329\, United States
END:VEVENT
BEGIN:VEVENT
DTSTART;TZID=America/Chicago:20220705T080000
DTEND;TZID=America/Chicago:20220705T160000
DTSTAMP:20260423T022853
CREATED:20220608T163434Z
LAST-MODIFIED:20220608T163512Z
UID:8492-1657008000-1657036800@ci.foley.mn.us
SUMMARY:Driver Road Test
DESCRIPTION:If you need to schedule a road test\, you will need to schedule online at the website below. \nMinnesota Driver and Vehicle Services \nhttps://onlineservices.dps.mn.gov/EServices/_/#3 \nThe Benton County Government Center provides DMV services.  They are available for walk-ins for tabs\, titles and standard driver’s licenses. Please call 320-968-5010 with questions for more information. You may need to leave a message for staff to call you back.
URL:https://ci.foley.mn.us/event/driver-exam-35/
LOCATION:City Hall – Council Chamber
END:VEVENT
BEGIN:VEVENT
DTSTART;TZID=America/Chicago:20220707T130000
DTEND;TZID=America/Chicago:20220707T150000
DTSTAMP:20260423T022853
CREATED:20220505T142603Z
LAST-MODIFIED:20220505T142603Z
UID:8422-1657198800-1657206000@ci.foley.mn.us
SUMMARY:Root Beer Floats with Foley PD
DESCRIPTION:
URL:https://ci.foley.mn.us/event/root-beer-floats-with-foley-pd/
LOCATION:City Hall – Council Chamber
END:VEVENT
BEGIN:VEVENT
DTSTART;TZID=America/Chicago:20220712T173000
DTEND;TZID=America/Chicago:20220712T193000
DTSTAMP:20260423T022853
CREATED:20220608T163316Z
LAST-MODIFIED:20220608T163316Z
UID:8489-1657647000-1657654200@ci.foley.mn.us
SUMMARY:City Council Meeting
DESCRIPTION:Please Note: The July Council Meeting was pushed back one week due the July 4 holiday. \nCity Council meetings are held regularly on the 1st and 3rd Tuesday of the month at 5:30 p.m. at City Hall\, unless specified in advance by the City Council. Second meetings of the month are held when needed as determined by the Mayor and/or City Administrator. The public is encouraged to attend and speak at the meeting during public forums.
URL:https://ci.foley.mn.us/event/city-council-meeting-71/
LOCATION:City Hall – Council Chamber
END:VEVENT
BEGIN:VEVENT
DTSTART;TZID=America/Chicago:20220719T120000
DTEND;TZID=America/Chicago:20220719T133000
DTSTAMP:20260423T022853
CREATED:20220608T164128Z
LAST-MODIFIED:20220608T164128Z
UID:8499-1658232000-1658237400@ci.foley.mn.us
SUMMARY:Thriving Communities - Economic Development Task Force
DESCRIPTION:The Economic Development board helps to support the many varied businesses and industries within the City of Foley. The board oversees programs\, reviews data and supports efforts to help meet the economic goals of the community. Meets the third Tuesday of every month from 12:00 p.m. to 1:30 p.m.
URL:https://ci.foley.mn.us/event/thriving-communities-economic-development-task-force-55/
LOCATION:City Hall – Council Chamber
END:VEVENT
END:VCALENDAR