BEGIN:VCALENDAR
VERSION:2.0
PRODID:-//City of Foley, Minnesota - ECPv6.15.17.1//NONSGML v1.0//EN
CALSCALE:GREGORIAN
METHOD:PUBLISH
X-ORIGINAL-URL:https://ci.foley.mn.us
X-WR-CALDESC:Events for City of Foley, Minnesota
REFRESH-INTERVAL;VALUE=DURATION:PT1H
X-Robots-Tag:noindex
X-PUBLISHED-TTL:PT1H
BEGIN:VTIMEZONE
TZID:America/Chicago
BEGIN:DAYLIGHT
TZOFFSETFROM:-0600
TZOFFSETTO:-0500
TZNAME:CDT
DTSTART:20210314T080000
END:DAYLIGHT
BEGIN:STANDARD
TZOFFSETFROM:-0500
TZOFFSETTO:-0600
TZNAME:CST
DTSTART:20211107T070000
END:STANDARD
BEGIN:DAYLIGHT
TZOFFSETFROM:-0600
TZOFFSETTO:-0500
TZNAME:CDT
DTSTART:20220313T080000
END:DAYLIGHT
BEGIN:STANDARD
TZOFFSETFROM:-0500
TZOFFSETTO:-0600
TZNAME:CST
DTSTART:20221106T070000
END:STANDARD
BEGIN:DAYLIGHT
TZOFFSETFROM:-0600
TZOFFSETTO:-0500
TZNAME:CDT
DTSTART:20230312T080000
END:DAYLIGHT
BEGIN:STANDARD
TZOFFSETFROM:-0500
TZOFFSETTO:-0600
TZNAME:CST
DTSTART:20231105T070000
END:STANDARD
END:VTIMEZONE
BEGIN:VEVENT
DTSTART;TZID=America/Chicago:20221101T080000
DTEND;TZID=America/Chicago:20221101T160000
DTSTAMP:20260422T191557
CREATED:20221011T183702Z
LAST-MODIFIED:20221011T183702Z
UID:8725-1667289600-1667318400@ci.foley.mn.us
SUMMARY:Driver Road Test
DESCRIPTION:If you need to schedule a road test\, you will need to schedule online at the website below. \nMinnesota Driver and Vehicle Services \nhttps://onlineservices.dps.mn.gov/EServices/_/#3 \nThe Benton County Government Center provides DMV services.  They are available for walk-ins for tabs\, titles and standard driver’s licenses. Please call 320-968-5010 with questions for more information. You may need to leave a message for staff to call you back.
URL:https://ci.foley.mn.us/event/driver-road-test-9/
LOCATION:City Hall – Council Chamber
END:VEVENT
BEGIN:VEVENT
DTSTART;TZID=America/Chicago:20221101T173000
DTEND;TZID=America/Chicago:20221101T193000
DTSTAMP:20260422T191557
CREATED:20221011T183014Z
LAST-MODIFIED:20221011T183014Z
UID:8721-1667323800-1667331000@ci.foley.mn.us
SUMMARY:City Council Meeting
DESCRIPTION:City Council meetings are held regularly on the 1st and 3rd Tuesday of the month at 5:30 p.m. at City Hall\, unless specified in advance by the City Council. Second meetings of the month are held when needed as determined by the Mayor and/or City Administrator. The public is encouraged to attend and speak at the meeting during public forums.
URL:https://ci.foley.mn.us/event/city-council-meeting-74/
LOCATION:City Hall – Council Chamber
END:VEVENT
BEGIN:VEVENT
DTSTART;TZID=America/Chicago:20221108T070000
DTEND;TZID=America/Chicago:20221108T200000
DTSTAMP:20260422T191557
CREATED:20220907T162631Z
LAST-MODIFIED:20220907T162631Z
UID:8687-1667890800-1667937600@ci.foley.mn.us
SUMMARY:Election Day
DESCRIPTION:
URL:https://ci.foley.mn.us/event/election-day-2/
LOCATION:City Hall – Council Chamber
END:VEVENT
BEGIN:VEVENT
DTSTART;VALUE=DATE:20221111
DTEND;VALUE=DATE:20221112
DTSTAMP:20260422T191557
CREATED:20221011T184204Z
LAST-MODIFIED:20221011T184204Z
UID:8732-1668124800-1668211199@ci.foley.mn.us
SUMMARY:Veterans Day - City Hall Closed
DESCRIPTION:City Hall Administrative Offices are closed for Veterans Day.
URL:https://ci.foley.mn.us/event/veterans-day-city-hall-closed-4/
LOCATION:City Hall Administrative Offices\, 251 4th Ave N\, Foley\, 56329\, United States
END:VEVENT
BEGIN:VEVENT
DTSTART;TZID=America/Chicago:20221114T183000
DTEND;TZID=America/Chicago:20221114T193000
DTSTAMP:20260422T191557
CREATED:20221011T183846Z
LAST-MODIFIED:20221011T183846Z
UID:8727-1668450600-1668454200@ci.foley.mn.us
SUMMARY:Planning Commission
DESCRIPTION:Meetings are held the second Monday of the month at 6:30 p.m.
URL:https://ci.foley.mn.us/event/planning-commission-34/
LOCATION:City Hall – Council Chamber
END:VEVENT
BEGIN:VEVENT
DTSTART;TZID=America/Chicago:20221115T120000
DTEND;TZID=America/Chicago:20221115T133000
DTSTAMP:20260422T191557
CREATED:20221011T184027Z
LAST-MODIFIED:20221011T184027Z
UID:8730-1668513600-1668519000@ci.foley.mn.us
SUMMARY:Thriving Communities - Economic Development Task Force
DESCRIPTION:The Economic Development board helps to support the many varied businesses and industries within the City of Foley. The board oversees programs\, reviews data and supports efforts to help meet the economic goals of the community. Meets the third Tuesday of every month from 12:00 p.m. to 1:30 p.m.
URL:https://ci.foley.mn.us/event/thriving-communities-economic-development-task-force-59/
LOCATION:City Hall – Council Chamber
END:VEVENT
BEGIN:VEVENT
DTSTART;TZID=America/Chicago:20221115T173000
DTEND;TZID=America/Chicago:20221115T193000
DTSTAMP:20260422T191557
CREATED:20221011T183525Z
LAST-MODIFIED:20221109T170054Z
UID:8723-1668533400-1668540600@ci.foley.mn.us
SUMMARY:City Council Meeting - Canvass Election Results
DESCRIPTION:Please Note: The council meeting will be held at the Fire Hall due to carpet installation at the Foley Library. The council room is being used to store the books. \nCity Council meetings are held regularly on the 1st and 3rd Tuesday of the month at 5:30 p.m. at City Hall\, unless specified in advance by the City Council. Second meetings of the month are held when needed as determined by the Mayor and/or City Administrator. The public is encouraged to attend and speak at the meeting during public forums. \n \n  \n 
URL:https://ci.foley.mn.us/event/city-council-meeting-75/
LOCATION:81 Norman Ave S
END:VEVENT
BEGIN:VEVENT
DTSTART;VALUE=DATE:20221124
DTEND;VALUE=DATE:20221125
DTSTAMP:20260422T191557
CREATED:20221011T184347Z
LAST-MODIFIED:20221011T184347Z
UID:8734-1669248000-1669334399@ci.foley.mn.us
SUMMARY:Thanksgiving Day - City Hall Closed
DESCRIPTION:City Hall will be closed Thanksgiving Day.
URL:https://ci.foley.mn.us/event/thanksgiving-day-city-hall-closed-2/
LOCATION:City Hall Administrative Offices\, 251 4th Ave N\, Foley\, 56329\, United States
END:VEVENT
BEGIN:VEVENT
DTSTART;VALUE=DATE:20221125
DTEND;VALUE=DATE:20221126
DTSTAMP:20260422T191557
CREATED:20221011T184445Z
LAST-MODIFIED:20221011T184445Z
UID:8736-1669334400-1669420799@ci.foley.mn.us
SUMMARY:Day After Thanksgiving - City Hall Closed
DESCRIPTION:City Hall will be closed the day after Thanksgiving.
URL:https://ci.foley.mn.us/event/day-after-thanksgiving-city-hall-closed-3/
LOCATION:City Hall Administrative Offices\, 251 4th Ave N\, Foley\, 56329\, United States
END:VEVENT
END:VCALENDAR