BEGIN:VCALENDAR
VERSION:2.0
PRODID:-//City of Foley, Minnesota - ECPv6.15.17.1//NONSGML v1.0//EN
CALSCALE:GREGORIAN
METHOD:PUBLISH
X-ORIGINAL-URL:https://ci.foley.mn.us
X-WR-CALDESC:Events for City of Foley, Minnesota
REFRESH-INTERVAL;VALUE=DURATION:PT1H
X-Robots-Tag:noindex
X-PUBLISHED-TTL:PT1H
BEGIN:VTIMEZONE
TZID:America/Chicago
BEGIN:DAYLIGHT
TZOFFSETFROM:-0600
TZOFFSETTO:-0500
TZNAME:CDT
DTSTART:20230312T080000
END:DAYLIGHT
BEGIN:STANDARD
TZOFFSETFROM:-0500
TZOFFSETTO:-0600
TZNAME:CST
DTSTART:20231105T070000
END:STANDARD
BEGIN:DAYLIGHT
TZOFFSETFROM:-0600
TZOFFSETTO:-0500
TZNAME:CDT
DTSTART:20240310T080000
END:DAYLIGHT
BEGIN:STANDARD
TZOFFSETFROM:-0500
TZOFFSETTO:-0600
TZNAME:CST
DTSTART:20241103T070000
END:STANDARD
BEGIN:DAYLIGHT
TZOFFSETFROM:-0600
TZOFFSETTO:-0500
TZNAME:CDT
DTSTART:20250309T080000
END:DAYLIGHT
BEGIN:STANDARD
TZOFFSETFROM:-0500
TZOFFSETTO:-0600
TZNAME:CST
DTSTART:20251102T070000
END:STANDARD
END:VTIMEZONE
BEGIN:VEVENT
DTSTART;VALUE=DATE:20240101
DTEND;VALUE=DATE:20240102
DTSTAMP:20260419T150435
CREATED:20231101T170716Z
LAST-MODIFIED:20231101T170716Z
UID:9649-1704067200-1704153599@ci.foley.mn.us
SUMMARY:New Year's Day - City Hall Closed
DESCRIPTION:City Hall administrative offices will be closed.
URL:https://ci.foley.mn.us/event/new-years-day-city-hall-closed-5/
LOCATION:City Hall Administrative Offices\, 251 4th Ave N\, Foley\, 56329\, United States
END:VEVENT
BEGIN:VEVENT
DTSTART;TZID=America/Chicago:20240102T080000
DTEND;TZID=America/Chicago:20240102T160000
DTSTAMP:20260419T150435
CREATED:20231205T175247Z
LAST-MODIFIED:20231205T175247Z
UID:9702-1704182400-1704211200@ci.foley.mn.us
SUMMARY:Driver Road Test
DESCRIPTION:If you need to schedule a road test\, you will need to schedule online at the website below. \nMinnesota Driver and Vehicle Services \nhttps://onlineservices.dps.mn.gov/EServices/_/#3 \nThe Benton County Government Center provides DMV services.  They are available for walk-ins for tabs\, titles and standard driver’s licenses. Please call 320-968-5010 with questions for more information. You may need to leave a message for staff to call you back.
URL:https://ci.foley.mn.us/event/driver-road-test-22/
LOCATION:City Hall – Council Chamber
END:VEVENT
BEGIN:VEVENT
DTSTART;TZID=America/Chicago:20240102T173000
DTEND;TZID=America/Chicago:20240102T193000
DTSTAMP:20260419T150435
CREATED:20231205T174458Z
LAST-MODIFIED:20231205T174458Z
UID:9698-1704216600-1704223800@ci.foley.mn.us
SUMMARY:City Council Meeting
DESCRIPTION:City Council meetings are held regularly on the 1st and 3rd Tuesday of the month at 5:30 p.m. at City Hall\, unless specified in advance by the City Council. Second meetings of the month are held when needed as determined by the Mayor and/or City Administrator. The public is encouraged to attend and speak at the meeting during public forums.
URL:https://ci.foley.mn.us/event/city-council-meeting-89/
LOCATION:City Hall – Council Chamber
END:VEVENT
BEGIN:VEVENT
DTSTART;VALUE=DATE:20240115
DTEND;VALUE=DATE:20240116
DTSTAMP:20260419T150435
CREATED:20231205T175813Z
LAST-MODIFIED:20231205T175813Z
UID:9708-1705276800-1705363199@ci.foley.mn.us
SUMMARY:Martin Luther King Jr. Day - City Hall Closed
DESCRIPTION:City Hall administrative offices will be closed.
URL:https://ci.foley.mn.us/event/martin-luther-king-jr-day-city-hall-closed-4/
END:VEVENT
BEGIN:VEVENT
DTSTART;TZID=America/Chicago:20240116T120000
DTEND;TZID=America/Chicago:20240116T133000
DTSTAMP:20260419T150435
CREATED:20231205T175622Z
LAST-MODIFIED:20231205T175622Z
UID:9706-1705406400-1705411800@ci.foley.mn.us
SUMMARY:Thriving Communities - Economic Development Task Force
DESCRIPTION:The Economic Development board helps to support the many varied businesses and industries within the City of Foley. The board oversees programs\, reviews data and supports efforts to help meet the economic goals of the community. Meets the third Tuesday of every month from 12:00 p.m. to 1:30 p.m.
URL:https://ci.foley.mn.us/event/thriving-communities-economic-development-task-force-73/
LOCATION:City Hall – Council Chamber
END:VEVENT
END:VCALENDAR