BEGIN:VCALENDAR
VERSION:2.0
PRODID:-//City of Foley, Minnesota - ECPv6.15.17.1//NONSGML v1.0//EN
CALSCALE:GREGORIAN
METHOD:PUBLISH
X-WR-CALNAME:City of Foley, Minnesota
X-ORIGINAL-URL:https://ci.foley.mn.us
X-WR-CALDESC:Events for City of Foley, Minnesota
REFRESH-INTERVAL;VALUE=DURATION:PT1H
X-Robots-Tag:noindex
X-PUBLISHED-TTL:PT1H
BEGIN:VTIMEZONE
TZID:UTC
BEGIN:STANDARD
TZOFFSETFROM:+0000
TZOFFSETTO:+0000
TZNAME:UTC
DTSTART:20200101T000000
END:STANDARD
END:VTIMEZONE
BEGIN:VEVENT
DTSTART;TZID=UTC:20210216T120000
DTEND;TZID=UTC:20210216T133000
DTSTAMP:20260424T224612
CREATED:20210107T211334Z
LAST-MODIFIED:20210107T211334Z
UID:7359-1613476800-1613482200@ci.foley.mn.us
SUMMARY:Thriving Communities - Economic Development Task Force
DESCRIPTION:The Economic Development board helps to support the many varied businesses and industries within the City of Foley. The board oversees programs\, reviews data and supports efforts to help meet the economic goals of the community. Meets the third Tuesday of every month from 12:00 p.m. to 1:30 p.m.
URL:https://ci.foley.mn.us/event/thriving-communities-economic-development-task-force-39/
LOCATION:City Hall – Council Chamber
END:VEVENT
END:VCALENDAR