BEGIN:VCALENDAR
VERSION:2.0
PRODID:-//City of Foley, Minnesota - ECPv6.15.17.1//NONSGML v1.0//EN
CALSCALE:GREGORIAN
METHOD:PUBLISH
X-ORIGINAL-URL:https://ci.foley.mn.us
X-WR-CALDESC:Events for City of Foley, Minnesota
REFRESH-INTERVAL;VALUE=DURATION:PT1H
X-Robots-Tag:noindex
X-PUBLISHED-TTL:PT1H
BEGIN:VTIMEZONE
TZID:UTC
BEGIN:STANDARD
TZOFFSETFROM:+0000
TZOFFSETTO:+0000
TZNAME:UTC
DTSTART:20200101T000000
END:STANDARD
END:VTIMEZONE
BEGIN:VEVENT
DTSTART;TZID=UTC:20210406T173000
DTEND;TZID=UTC:20210406T193000
DTSTAMP:20260424T192506
CREATED:20210303T233929Z
LAST-MODIFIED:20210303T233929Z
UID:7461-1617730200-1617737400@ci.foley.mn.us
SUMMARY:City Council Meeting
DESCRIPTION:City Council meetings are held regularly on the 1st and 3rd Tuesday of the month at 5:30 p.m. at City Hall\, unless specified in advance by the City Council. Second meetings of the month are held when needed as determined by the Mayor and/or City Administrator. The public is encouraged to attend and speak at the meeting during public forums.
URL:https://ci.foley.mn.us/event/city-council-meeting-50/
LOCATION:City Hall – Council Chamber
END:VEVENT
END:VCALENDAR