BEGIN:VCALENDAR
VERSION:2.0
PRODID:-//City of Foley, Minnesota - ECPv6.15.17.1//NONSGML v1.0//EN
CALSCALE:GREGORIAN
METHOD:PUBLISH
X-WR-CALNAME:City of Foley, Minnesota
X-ORIGINAL-URL:https://ci.foley.mn.us
X-WR-CALDESC:Events for City of Foley, Minnesota
REFRESH-INTERVAL;VALUE=DURATION:PT1H
X-Robots-Tag:noindex
X-PUBLISHED-TTL:PT1H
BEGIN:VTIMEZONE
TZID:UTC
BEGIN:STANDARD
TZOFFSETFROM:+0000
TZOFFSETTO:+0000
TZNAME:UTC
DTSTART:20190101T000000
END:STANDARD
END:VTIMEZONE
BEGIN:VEVENT
DTSTART;VALUE=DATE:20201103
DTEND;VALUE=DATE:20201104
DTSTAMP:20260424T222330
CREATED:20201005T214123Z
LAST-MODIFIED:20201022T193151Z
UID:7158-1604361600-1604447999@ci.foley.mn.us
SUMMARY:Election Day - City Hall Walk-Up Window Closed to Public
DESCRIPTION:City Hall’s walk-up window will be closed to the public to help reduce the amount of walk-in traffic during Election Day. Staff will still answer phones and email during our regular 7:30 a.m. – 4:00 p.m. office hours.
URL:https://ci.foley.mn.us/event/election-day-city-hall-closed-to-public/
LOCATION:City Hall Administrative Offices\, 251 4th Ave N\, Foley\, 56329\, United States
END:VEVENT
END:VCALENDAR