BEGIN:VCALENDAR
VERSION:2.0
PRODID:-//City of Foley, Minnesota - ECPv6.15.17.1//NONSGML v1.0//EN
CALSCALE:GREGORIAN
METHOD:PUBLISH
X-ORIGINAL-URL:https://ci.foley.mn.us
X-WR-CALDESC:Events for City of Foley, Minnesota
REFRESH-INTERVAL;VALUE=DURATION:PT1H
X-Robots-Tag:noindex
X-PUBLISHED-TTL:PT1H
BEGIN:VTIMEZONE
TZID:UTC
BEGIN:STANDARD
TZOFFSETFROM:+0000
TZOFFSETTO:+0000
TZNAME:UTC
DTSTART:20190101T000000
END:STANDARD
END:VTIMEZONE
BEGIN:VEVENT
DTSTART;TZID=UTC:20201015T073000
DTEND;TZID=UTC:20201015T083000
DTSTAMP:20260422T173759
CREATED:20201007T233500Z
LAST-MODIFIED:20201007T233500Z
UID:7169-1602747000-1602750600@ci.foley.mn.us
SUMMARY:Foley Area Chamber Meeting
DESCRIPTION:
URL:https://ci.foley.mn.us/event/foley-area-chamber-meeting-15/
LOCATION:840 Norman Ave N Foley MN
END:VEVENT
END:VCALENDAR