BEGIN:VCALENDAR
VERSION:2.0
PRODID:-//City of Foley, Minnesota - ECPv6.15.17.1//NONSGML v1.0//EN
CALSCALE:GREGORIAN
METHOD:PUBLISH
X-WR-CALNAME:City of Foley, Minnesota
X-ORIGINAL-URL:https://ci.foley.mn.us
X-WR-CALDESC:Events for City of Foley, Minnesota
REFRESH-INTERVAL;VALUE=DURATION:PT1H
X-Robots-Tag:noindex
X-PUBLISHED-TTL:PT1H
BEGIN:VTIMEZONE
TZID:America/Chicago
BEGIN:DAYLIGHT
TZOFFSETFROM:-0600
TZOFFSETTO:-0500
TZNAME:CDT
DTSTART:20210314T080000
END:DAYLIGHT
BEGIN:STANDARD
TZOFFSETFROM:-0500
TZOFFSETTO:-0600
TZNAME:CST
DTSTART:20211107T070000
END:STANDARD
BEGIN:DAYLIGHT
TZOFFSETFROM:-0600
TZOFFSETTO:-0500
TZNAME:CDT
DTSTART:20220313T080000
END:DAYLIGHT
BEGIN:STANDARD
TZOFFSETFROM:-0500
TZOFFSETTO:-0600
TZNAME:CST
DTSTART:20221106T070000
END:STANDARD
BEGIN:DAYLIGHT
TZOFFSETFROM:-0600
TZOFFSETTO:-0500
TZNAME:CDT
DTSTART:20230312T080000
END:DAYLIGHT
BEGIN:STANDARD
TZOFFSETFROM:-0500
TZOFFSETTO:-0600
TZNAME:CST
DTSTART:20231105T070000
END:STANDARD
END:VTIMEZONE
BEGIN:VEVENT
DTSTART;TZID=America/Chicago:20220618T100000
DTEND;TZID=America/Chicago:20220618T130000
DTSTAMP:20260424T215443
CREATED:20220505T141827Z
LAST-MODIFIED:20220505T141827Z
UID:8420-1655546400-1655557200@ci.foley.mn.us
SUMMARY:Bike Rodeo
DESCRIPTION:
URL:https://ci.foley.mn.us/event/bike-rodeo-2/
LOCATION:Lion’s Park
END:VEVENT
BEGIN:VEVENT
DTSTART;VALUE=DATE:20220620
DTEND;VALUE=DATE:20220623
DTSTAMP:20260424T215443
CREATED:20220217T180100Z
LAST-MODIFIED:20220217T180100Z
UID:8216-1655683200-1655942399@ci.foley.mn.us
SUMMARY:Foley Fun Days
DESCRIPTION:
URL:https://ci.foley.mn.us/event/foley-fun-days-4/
END:VEVENT
BEGIN:VEVENT
DTSTART;TZID=America/Chicago:20220620T180000
DTEND;TZID=America/Chicago:20220620T210000
DTSTAMP:20260424T215443
CREATED:20220524T165418Z
LAST-MODIFIED:20220524T165418Z
UID:8467-1655748000-1655758800@ci.foley.mn.us
SUMMARY:Foley Fun Days 5K
DESCRIPTION:
URL:https://ci.foley.mn.us/event/foley-fun-days-5k/
END:VEVENT
END:VCALENDAR