BEGIN:VCALENDAR
VERSION:2.0
PRODID:-//City of Foley, Minnesota - ECPv6.15.17.1//NONSGML v1.0//EN
CALSCALE:GREGORIAN
METHOD:PUBLISH
X-WR-CALNAME:City of Foley, Minnesota
X-ORIGINAL-URL:https://ci.foley.mn.us
X-WR-CALDESC:Events for City of Foley, Minnesota
REFRESH-INTERVAL;VALUE=DURATION:PT1H
X-Robots-Tag:noindex
X-PUBLISHED-TTL:PT1H
BEGIN:VTIMEZONE
TZID:America/Chicago
BEGIN:DAYLIGHT
TZOFFSETFROM:-0600
TZOFFSETTO:-0500
TZNAME:CDT
DTSTART:20230312T080000
END:DAYLIGHT
BEGIN:STANDARD
TZOFFSETFROM:-0500
TZOFFSETTO:-0600
TZNAME:CST
DTSTART:20231105T070000
END:STANDARD
BEGIN:DAYLIGHT
TZOFFSETFROM:-0600
TZOFFSETTO:-0500
TZNAME:CDT
DTSTART:20240310T080000
END:DAYLIGHT
BEGIN:STANDARD
TZOFFSETFROM:-0500
TZOFFSETTO:-0600
TZNAME:CST
DTSTART:20241103T070000
END:STANDARD
BEGIN:DAYLIGHT
TZOFFSETFROM:-0600
TZOFFSETTO:-0500
TZNAME:CDT
DTSTART:20250309T080000
END:DAYLIGHT
BEGIN:STANDARD
TZOFFSETFROM:-0500
TZOFFSETTO:-0600
TZNAME:CST
DTSTART:20251102T070000
END:STANDARD
END:VTIMEZONE
BEGIN:VEVENT
DTSTART;TZID=America/Chicago:20240206T184500
DTEND;TZID=America/Chicago:20240206T203000
DTSTAMP:20260421T211905
CREATED:20240131T214631Z
LAST-MODIFIED:20240131T214631Z
UID:9835-1707245100-1707251400@ci.foley.mn.us
SUMMARY:Gilmanton - Joint Planning Board
DESCRIPTION:The Joint Planning Board was formed when the City of Foley signed an Orderly Annexation Agreement with Gilmanton Township. The board consists of four annually appointed members – two from the township and two from the city. The purpose of the board is to work together to administer land use controls within the Joint Planning area. \nMeetings shall be held on an as-needed bases when zoning requests are received or when either the City or the Township request a meeting. Every effort will be made to conduct Joint Planning Board meetings at the Town Hall and on the same day as Town Board meetings. \nGilmanton Town Hall\n8475 105th Avenue NE\nFoley\, MN 56329
URL:https://ci.foley.mn.us/event/gilmanton-joint-planning-board-2/
LOCATION:Gilmanton Town Hall\, 8475 105th Avenue NE\, Foley\, MN 56329\, MN\, United States
END:VEVENT
END:VCALENDAR