BEGIN:VCALENDAR
VERSION:2.0
PRODID:-//City of Foley, Minnesota - ECPv6.15.17.1//NONSGML v1.0//EN
CALSCALE:GREGORIAN
METHOD:PUBLISH
X-ORIGINAL-URL:https://ci.foley.mn.us
X-WR-CALDESC:Events for City of Foley, Minnesota
REFRESH-INTERVAL;VALUE=DURATION:PT1H
X-Robots-Tag:noindex
X-PUBLISHED-TTL:PT1H
BEGIN:VTIMEZONE
TZID:UTC
BEGIN:STANDARD
TZOFFSETFROM:+0000
TZOFFSETTO:+0000
TZNAME:UTC
DTSTART:20200101T000000
END:STANDARD
END:VTIMEZONE
BEGIN:VEVENT
DTSTART;TZID=UTC:20210223T190000
DTEND;TZID=UTC:20210223T200000
DTSTAMP:20260424T192627
CREATED:20210212T220137Z
LAST-MODIFIED:20210212T235129Z
UID:7394-1614106800-1614110400@ci.foley.mn.us
SUMMARY:Notice of Public Meeting: Orderly Annexation and Joint Planning Agreement - Gilmanton Township and the City of Foley
DESCRIPTION:For more information: Proposed Orderly Annexation Agreement (July 30\, 2020)
URL:https://ci.foley.mn.us/event/notice-of-public-meeting-orderly-annexation-and-joint-planning-agreement-gilmanton-township-and-city-of-foley/
LOCATION:City Hall – Council Chamber
END:VEVENT
END:VCALENDAR