BEGIN:VCALENDAR
VERSION:2.0
PRODID:-//City of Foley, Minnesota - ECPv6.15.17.1//NONSGML v1.0//EN
CALSCALE:GREGORIAN
METHOD:PUBLISH
X-ORIGINAL-URL:https://ci.foley.mn.us
X-WR-CALDESC:Events for City of Foley, Minnesota
REFRESH-INTERVAL;VALUE=DURATION:PT1H
X-Robots-Tag:noindex
X-PUBLISHED-TTL:PT1H
BEGIN:VTIMEZONE
TZID:America/Chicago
BEGIN:DAYLIGHT
TZOFFSETFROM:-0600
TZOFFSETTO:-0500
TZNAME:CDT
DTSTART:20240310T080000
END:DAYLIGHT
BEGIN:STANDARD
TZOFFSETFROM:-0500
TZOFFSETTO:-0600
TZNAME:CST
DTSTART:20241103T070000
END:STANDARD
BEGIN:DAYLIGHT
TZOFFSETFROM:-0600
TZOFFSETTO:-0500
TZNAME:CDT
DTSTART:20250309T080000
END:DAYLIGHT
BEGIN:STANDARD
TZOFFSETFROM:-0500
TZOFFSETTO:-0600
TZNAME:CST
DTSTART:20251102T070000
END:STANDARD
BEGIN:DAYLIGHT
TZOFFSETFROM:-0600
TZOFFSETTO:-0500
TZNAME:CDT
DTSTART:20260308T080000
END:DAYLIGHT
BEGIN:STANDARD
TZOFFSETFROM:-0500
TZOFFSETTO:-0600
TZNAME:CST
DTSTART:20261101T070000
END:STANDARD
END:VTIMEZONE
BEGIN:VEVENT
DTSTART;TZID=America/Chicago:20250614T100000
DTEND;TZID=America/Chicago:20250614T130000
DTSTAMP:20260419T135414
CREATED:20250506T173720Z
LAST-MODIFIED:20250506T173720Z
UID:11028-1749895200-1749906000@ci.foley.mn.us
SUMMARY:Bicycle Safety Rodeo
DESCRIPTION:Come learn how to be safe when riding your bicycle. Ride your bicycle through the obstacle course. Have your bicycle inspected and get your helmet properly fitted. Enjoy some lunch afterwards and sign-up for a chance to win prizes donated by many of the local businesses and organizations. This is a come and go type event. Parents are encouraged to accompany their children. \nDon’t forget to sign up with Foley Community Ed to be guaranteed. \nDeadline to sign up is June 1st \, 2025.
URL:https://ci.foley.mn.us/event/bicycle-safety-rodeo-3/
LOCATION:Lion’s Park
END:VEVENT
END:VCALENDAR