BEGIN:VCALENDAR
VERSION:2.0
PRODID:-//City of Foley, Minnesota - ECPv6.15.17.1//NONSGML v1.0//EN
CALSCALE:GREGORIAN
METHOD:PUBLISH
X-ORIGINAL-URL:https://ci.foley.mn.us
X-WR-CALDESC:Events for City of Foley, Minnesota
REFRESH-INTERVAL;VALUE=DURATION:PT1H
X-Robots-Tag:noindex
X-PUBLISHED-TTL:PT1H
BEGIN:VTIMEZONE
TZID:UTC
BEGIN:STANDARD
TZOFFSETFROM:+0000
TZOFFSETTO:+0000
TZNAME:UTC
DTSTART:20190101T000000
END:STANDARD
END:VTIMEZONE
BEGIN:VEVENT
DTSTART;TZID=UTC:20201007T070000
DTEND;TZID=UTC:20201007T080000
DTSTAMP:20260424T231723
CREATED:20201002T215114Z
LAST-MODIFIED:20201002T215114Z
UID:7131-1602054000-1602057600@ci.foley.mn.us
SUMMARY:Walk To School Day
DESCRIPTION:
URL:https://ci.foley.mn.us/event/walk-to-school-day-3/
END:VEVENT
END:VCALENDAR